<?xml version="1.0" encoding="UTF-8"?>
<CoverageDescription xmlns="http://www.opengis.net/wcs" xmlns:xlink="http://www.w3.org/1999/xlink" xmlns:gml="http://www.opengis.net/gml" xmlns:xsi="http://www.w3.org/2001/XMLSchema-instance" version="1.0.0" xsi:schemaLocation="http://www.opengis.net/wcs http://schemas.opengis.net/wcs/1.0.0/describeCoverage.xsd">
  <CoverageOffering>
    <name>u</name>
    <label>surface_eastward_sea_water_velocity</label>
    <lonLatEnvelope srsName="WGS84(DD)">
      <gml:pos>-122.59346771240234 37.45548629760742</gml:pos>
      <gml:pos>-122.0468978881836 38.13872528076172</gml:pos>
    </lonLatEnvelope>
    <domainSet>
      <spatialDomain>
        <gml:Envelope srsName="WGS84(DD)">
          <gml:pos>-122.59346771240234 37.45548629760742</gml:pos>
          <gml:pos>-122.0468978881836 38.13872528076172</gml:pos>
        </gml:Envelope>
        <gml:RectifiedGrid dimension="2">
          <gml:limits>
            <gml:GridEnvelope>
              <gml:low>0 0</gml:low>
              <gml:high>105 152</gml:high>
            </gml:GridEnvelope>
          </gml:limits>
          <gml:axisName>x</gml:axisName>
          <gml:axisName>y</gml:axisName>
          <gml:origin>
            <gml:pos>-122.59346771240234 37.45548629760742</gml:pos>
          </gml:origin>
          <gml:offsetVector>0.005205426897321429 0.0</gml:offsetVector>
          <gml:offsetVector>0.0 0.004494993310225637</gml:offsetVector>
        </gml:RectifiedGrid>
      </spatialDomain>
      <temporalDomain>
        <gml:timePosition>2009-11-23T18:00:00Z</gml:timePosition>
        <gml:timePosition>2009-11-23T19:00:00Z</gml:timePosition>
        <gml:timePosition>2009-11-23T20:00:00Z</gml:timePosition>
        <gml:timePosition>2009-11-23T21:00:00Z</gml:timePosition>
        <gml:timePosition>2009-11-23T22:00:00Z</gml:timePosition>
        <gml:timePosition>2009-11-23T23:00:00Z</gml:timePosition>
        <gml:timePosition>2009-11-24T00:00:00Z</gml:timePosition>
        <gml:timePosition>2009-11-24T01:00:00Z</gml:timePosition>
        <gml:timePosition>2009-11-24T02:00:00Z</gml:timePosition>
        <gml:timePosition>2009-11-24T03:00:00Z</gml:timePosition>
        <gml:timePosition>2009-11-24T04:00:00Z</gml:timePosition>
        <gml:timePosition>2009-11-24T05:00:00Z</gml:timePosition>
        <gml:timePosition>2009-11-24T06:00:00Z</gml:timePosition>
        <gml:timePosition>2009-11-24T07:00:00Z</gml:timePosition>
        <gml:timePosition>2009-11-24T08:00:00Z</gml:timePosition>
        <gml:timePosition>2009-11-24T09:00:00Z</gml:timePosition>
        <gml:timePosition>2009-11-24T10:00:00Z</gml:timePosition>
        <gml:timePosition>2009-11-24T11:00:00Z</gml:timePosition>
        <gml:timePosition>2009-11-24T12:00:00Z</gml:timePosition>
        <gml:timePosition>2009-11-24T13:00:00Z</gml:timePosition>
        <gml:timePosition>2009-11-24T14:00:00Z</gml:timePosition>
      </temporalDomain>
    </domainSet>
    <rangeSet>
      <RangeSet>
        <name>RangeSetName</name>
        <label>RangeSetLabel</label>
        <nullValues>
          <singleValue>NaN</singleValue>
        </nullValues>
      </RangeSet>
    </rangeSet>
    <supportedCRSs>
      <requestCRSs>EPSG:4326</requestCRSs>
      <responseCRSs>EPSG:4326</responseCRSs>
      <nativeCRSs>EPSG:4326</nativeCRSs>
    </supportedCRSs>
    <supportedFormats>
      <formats>GeoTIFF</formats>
      <formats>GeoTIFFfloat</formats>
      <formats>NetCDF3</formats>
    </supportedFormats>
    <supportedInterpolations>
      <interpolationMethod>none</interpolationMethod>
    </supportedInterpolations>
  </CoverageOffering>
  <CoverageOffering>
    <name>v</name>
    <label>surface_northward_sea_water_velocity</label>
    <lonLatEnvelope srsName="WGS84(DD)">
      <gml:pos>-122.59346771240234 37.45548629760742</gml:pos>
      <gml:pos>-122.0468978881836 38.13872528076172</gml:pos>
    </lonLatEnvelope>
    <domainSet>
      <spatialDomain>
        <gml:Envelope srsName="WGS84(DD)">
          <gml:pos>-122.59346771240234 37.45548629760742</gml:pos>
          <gml:pos>-122.0468978881836 38.13872528076172</gml:pos>
        </gml:Envelope>
        <gml:RectifiedGrid dimension="2">
          <gml:limits>
            <gml:GridEnvelope>
              <gml:low>0 0</gml:low>
              <gml:high>105 152</gml:high>
            </gml:GridEnvelope>
          </gml:limits>
          <gml:axisName>x</gml:axisName>
          <gml:axisName>y</gml:axisName>
          <gml:origin>
            <gml:pos>-122.59346771240234 37.45548629760742</gml:pos>
          </gml:origin>
          <gml:offsetVector>0.005205426897321429 0.0</gml:offsetVector>
          <gml:offsetVector>0.0 0.004494993310225637</gml:offsetVector>
        </gml:RectifiedGrid>
      </spatialDomain>
      <temporalDomain>
        <gml:timePosition>2009-11-23T18:00:00Z</gml:timePosition>
        <gml:timePosition>2009-11-23T19:00:00Z</gml:timePosition>
        <gml:timePosition>2009-11-23T20:00:00Z</gml:timePosition>
        <gml:timePosition>2009-11-23T21:00:00Z</gml:timePosition>
        <gml:timePosition>2009-11-23T22:00:00Z</gml:timePosition>
        <gml:timePosition>2009-11-23T23:00:00Z</gml:timePosition>
        <gml:timePosition>2009-11-24T00:00:00Z</gml:timePosition>
        <gml:timePosition>2009-11-24T01:00:00Z</gml:timePosition>
        <gml:timePosition>2009-11-24T02:00:00Z</gml:timePosition>
        <gml:timePosition>2009-11-24T03:00:00Z</gml:timePosition>
        <gml:timePosition>2009-11-24T04:00:00Z</gml:timePosition>
        <gml:timePosition>2009-11-24T05:00:00Z</gml:timePosition>
        <gml:timePosition>2009-11-24T06:00:00Z</gml:timePosition>
        <gml:timePosition>2009-11-24T07:00:00Z</gml:timePosition>
        <gml:timePosition>2009-11-24T08:00:00Z</gml:timePosition>
        <gml:timePosition>2009-11-24T09:00:00Z</gml:timePosition>
        <gml:timePosition>2009-11-24T10:00:00Z</gml:timePosition>
        <gml:timePosition>2009-11-24T11:00:00Z</gml:timePosition>
        <gml:timePosition>2009-11-24T12:00:00Z</gml:timePosition>
        <gml:timePosition>2009-11-24T13:00:00Z</gml:timePosition>
        <gml:timePosition>2009-11-24T14:00:00Z</gml:timePosition>
      </temporalDomain>
    </domainSet>
    <rangeSet>
      <RangeSet>
        <name>RangeSetName</name>
        <label>RangeSetLabel</label>
        <nullValues>
          <singleValue>NaN</singleValue>
        </nullValues>
      </RangeSet>
    </rangeSet>
    <supportedCRSs>
      <requestCRSs>EPSG:4326</requestCRSs>
      <responseCRSs>EPSG:4326</responseCRSs>
      <nativeCRSs>EPSG:4326</nativeCRSs>
    </supportedCRSs>
    <supportedFormats>
      <formats>GeoTIFF</formats>
      <formats>GeoTIFFfloat</formats>
      <formats>NetCDF3</formats>
    </supportedFormats>
    <supportedInterpolations>
      <interpolationMethod>none</interpolationMethod>
    </supportedInterpolations>
  </CoverageOffering>
</CoverageDescription>
